BEGIN:VCALENDAR
VERSION:2.0
METHOD:PUBLISH
PRODID:-//imacoda.com//SPD-Web-O-Mat//EN
CALSCALE:GREGORIAN
BEGIN:VTIMEZONE
TZID:Europe/Berlin
BEGIN:DAYLIGHT
TZOFFSETFROM:+0100
RRULE:FREQ=YEARLY;BYMONTH=3;BYDAY=-1SU
DTSTART:19810329T020000
TZNAME:MESZ
TZOFFSETTO:+0200
END:DAYLIGHT
BEGIN:STANDARD
TZOFFSETFROM:+0200
RRULE:FREQ=YEARLY;BYMONTH=10;BYDAY=-1SU
DTSTART:19961027T030000
TZNAME:MEZ
TZOFFSETTO:+0100
END:STANDARD
END:VTIMEZONE
BEGIN:VEVENT
UID:20180615T081436Z-00000404605-LULU@www.bayernspd.de
CREATED:20180615T081436Z
LAST-MODIFIED:20180615T133915Z
DTSTAMP:20180615T133915Z
TRANSP:TRANSPARENT
DTSTART;TZID=Europe/Berlin:20180705T183000
DTEND;TZID=Europe/Berlin:20180705T183000
SUMMARY:125 Jahre SPD-Fraktion im Bayerischen Landtag - wie alles begann
LOCATION:München\, Senatssaal im Bayerischen Landtag
DESCRIPTION:Termin im Web (BayernSPD Landtagsfraktion):\nhttps://bayerns
 pd-landtag.de/termine/?id=404605
END:VEVENT
END:VCALENDAR
