BEGIN:VCALENDAR
VERSION:2.0
METHOD:PUBLISH
PRODID:-//imacoda.com//SPD-Web-O-Mat//EN
CALSCALE:GREGORIAN
BEGIN:VTIMEZONE
TZID:Europe/Berlin
BEGIN:DAYLIGHT
TZOFFSETFROM:+0100
RRULE:FREQ=YEARLY;BYMONTH=3;BYDAY=-1SU
DTSTART:19810329T020000
TZNAME:MESZ
TZOFFSETTO:+0200
END:DAYLIGHT
BEGIN:STANDARD
TZOFFSETFROM:+0200
RRULE:FREQ=YEARLY;BYMONTH=10;BYDAY=-1SU
DTSTART:19961027T030000
TZNAME:MEZ
TZOFFSETTO:+0100
END:STANDARD
END:VTIMEZONE
BEGIN:VEVENT
UID:20180710T135225Z-00000407734-LULU@www.bayernspd.de
CREATED:20180710T135225Z
LAST-MODIFIED:20180710T135250Z
DTSTAMP:20180710T135250Z
TRANSP:TRANSPARENT
DTSTART;TZID=Europe/Berlin:20180719T143000
DTEND;TZID=Europe/Berlin:20180719T143000
SUMMARY:Fachgespräch "Gut leben im Alter"
LOCATION:Konferenzsaal\, Bayerischer Landtag\, München
DESCRIPTION:Termin im Web (BayernSPD Landtagsfraktion):\nhttps://bayerns
 pd-landtag.de/termine/?id=407734
END:VEVENT
END:VCALENDAR
